BEGIN:VCALENDAR
VERSION:2.0
CALSCALE:GREGORIAN
BEGIN:VEVENT
URL:https://www.learndesk.us/class/5473041867866112/lesson/b7d0dbd62da26c8893377a9bc4fbd74a?ref=outlook-calendar
SUMMARY:Demo: Lock Picking
DTSTART;TZID=America/Los_Angeles:20260422T190000
DTEND;TZID=America/Los_Angeles:20260422T200000
LOCATION:https://www.learndesk.us/class/5473041867866112/lesson/b7d0dbd62da26c8893377a9bc4fbd74a?ref=outlook-calendar
DESCRIPTION: In this demonstration, you will see how a standard padlock can be easily picked and doesn't provide much security.

https://www.learndesk.us/class/5473041867866112/lesson/b7d0dbd62da26c8893377a9bc4fbd74a?ref=outlook-calendar
STATUS:CONFIRMED
SEQUENCE:3
BEGIN:VALARM
TRIGGER:-PT10M
DESCRIPTION:Class Reminder
ACTION:DISPLAY
END:VALARM
END:VEVENT
END:VCALENDAR