BEGIN:VCALENDAR
VERSION:2.0
CALSCALE:GREGORIAN
BEGIN:VEVENT
URL:https://www.learndesk.us/class/5473041867866112/lesson/b5890fff23742477306e3a6fe75e66b9?ref=outlook-calendar
SUMMARY:Spoofing
DTSTART;TZID=America/Los_Angeles:20260422T190000
DTEND;TZID=America/Los_Angeles:20260422T200000
LOCATION:https://www.learndesk.us/class/5473041867866112/lesson/b5890fff23742477306e3a6fe75e66b9?ref=outlook-calendar
DESCRIPTION: In this lesson, we will discuss how spoofing attacks are conducted.

https://www.learndesk.us/class/5473041867866112/lesson/b5890fff23742477306e3a6fe75e66b9?ref=outlook-calendar
STATUS:CONFIRMED
SEQUENCE:3
BEGIN:VALARM
TRIGGER:-PT10M
DESCRIPTION:Class Reminder
ACTION:DISPLAY
END:VALARM
END:VEVENT
END:VCALENDAR