BEGIN:VCALENDAR
VERSION:2.0
CALSCALE:GREGORIAN
BEGIN:VEVENT
URL:https://www.learndesk.us/class/5473041867866112/lesson/b47d8e92775c47ee1c6b566a39da0529?ref=outlook-calendar
SUMMARY:Demo: Setting up a VPN
DTSTART;TZID=America/Los_Angeles:20260422T190000
DTEND;TZID=America/Los_Angeles:20260422T200000
LOCATION:https://www.learndesk.us/class/5473041867866112/lesson/b47d8e92775c47ee1c6b566a39da0529?ref=outlook-calendar
DESCRIPTION: In this demonstration, you will learn how to create a VPN connection from a Windows machine.

https://www.learndesk.us/class/5473041867866112/lesson/b47d8e92775c47ee1c6b566a39da0529?ref=outlook-calendar
STATUS:CONFIRMED
SEQUENCE:3
BEGIN:VALARM
TRIGGER:-PT10M
DESCRIPTION:Class Reminder
ACTION:DISPLAY
END:VALARM
END:VEVENT
END:VCALENDAR