BEGIN:VCALENDAR
VERSION:2.0
CALSCALE:GREGORIAN
BEGIN:VEVENT
URL:https://www.learndesk.us/class/5473041867866112/lesson/b01bd7a6c56dffd75dcd5430107e26e4?ref=outlook-calendar
SUMMARY:CIA Triad
DTSTART;TZID=America/Los_Angeles:20260422T190000
DTEND;TZID=America/Los_Angeles:20260422T200000
LOCATION:https://www.learndesk.us/class/5473041867866112/lesson/b01bd7a6c56dffd75dcd5430107e26e4?ref=outlook-calendar
DESCRIPTION: This lesson discusses the CIA Triad: confidentiality, integrity, and availability.

https://www.learndesk.us/class/5473041867866112/lesson/b01bd7a6c56dffd75dcd5430107e26e4?ref=outlook-calendar
STATUS:CONFIRMED
SEQUENCE:3
BEGIN:VALARM
TRIGGER:-PT10M
DESCRIPTION:Class Reminder
ACTION:DISPLAY
END:VALARM
END:VEVENT
END:VCALENDAR