BEGIN:VCALENDAR
VERSION:2.0
CALSCALE:GREGORIAN
BEGIN:VEVENT
URL:https://www.learndesk.us/class/5473041867866112/lesson/ae2807592e8f9a4eca3c1600b4782e05?ref=outlook-calendar
SUMMARY:Malware Infections
DTSTART;TZID=America/Los_Angeles:20260422T190000
DTEND;TZID=America/Los_Angeles:20260422T200000
LOCATION:https://www.learndesk.us/class/5473041867866112/lesson/ae2807592e8f9a4eca3c1600b4782e05?ref=outlook-calendar
DESCRIPTION: 
Learn about Malware Infections.

Malware infections
Common delivery methods
Demo: Phishing
Botnets and Zombies
Active interception and Privilege escalation
Demo: Privilege escalation
Backdoors and Logic Bombs
Symptoms of infection
Removing malware
Preventing malware



https://www.learndesk.us/class/5473041867866112/lesson/ae2807592e8f9a4eca3c1600b4782e05?ref=outlook-calendar
STATUS:CONFIRMED
SEQUENCE:3
BEGIN:VALARM
TRIGGER:-PT10M
DESCRIPTION:Class Reminder
ACTION:DISPLAY
END:VALARM
END:VEVENT
END:VCALENDAR