BEGIN:VCALENDAR
VERSION:2.0
CALSCALE:GREGORIAN
BEGIN:VEVENT
URL:https://www.learndesk.us/class/5473041867866112/lesson/ac0d250c3984f386aeac77789e6de3b7?ref=outlook-calendar
SUMMARY:Auditing
DTSTART;TZID=America/Los_Angeles:20260424T190000
DTEND;TZID=America/Los_Angeles:20260424T200000
LOCATION:https://www.learndesk.us/class/5473041867866112/lesson/ac0d250c3984f386aeac77789e6de3b7?ref=outlook-calendar
DESCRIPTION: In this lesson, you will get introduced to the concept of auditing.

https://www.learndesk.us/class/5473041867866112/lesson/ac0d250c3984f386aeac77789e6de3b7?ref=outlook-calendar
STATUS:CONFIRMED
SEQUENCE:3
BEGIN:VALARM
TRIGGER:-PT10M
DESCRIPTION:Class Reminder
ACTION:DISPLAY
END:VALARM
END:VEVENT
END:VCALENDAR