BEGIN:VCALENDAR
VERSION:2.0
CALSCALE:GREGORIAN
BEGIN:VEVENT
URL:https://www.learndesk.us/class/5473041867866112/lesson/a5341dd03827cdc125a8fd374a535155?ref=outlook-calendar
SUMMARY:Planning for the Worst
DTSTART;TZID=America/Los_Angeles:20260425T190000
DTEND;TZID=America/Los_Angeles:20260425T200000
LOCATION:https://www.learndesk.us/class/5473041867866112/lesson/a5341dd03827cdc125a8fd374a535155?ref=outlook-calendar
DESCRIPTION: 
Learn about Planning.

Planning for the worst
Redundant power
Backup power
Data redundancy
Demo: RAIDs
Network redundancy
Server redundancy
Redundant sites
Data backup
Tape rotation
Disaster recovery plan



https://www.learndesk.us/class/5473041867866112/lesson/a5341dd03827cdc125a8fd374a535155?ref=outlook-calendar
STATUS:CONFIRMED
SEQUENCE:3
BEGIN:VALARM
TRIGGER:-PT10M
DESCRIPTION:Class Reminder
ACTION:DISPLAY
END:VALARM
END:VEVENT
END:VCALENDAR