BEGIN:VCALENDAR
VERSION:2.0
CALSCALE:GREGORIAN
BEGIN:VEVENT
URL:https://www.learndesk.us/class/5473041867866112/lesson/a11c24f9fcb68dd8f3e20ce81df17102?ref=outlook-calendar
SUMMARY:Active Interception and Privilege Escalation
DTSTART;TZID=America/Los_Angeles:20260423T190000
DTEND;TZID=America/Los_Angeles:20260423T200000
LOCATION:https://www.learndesk.us/class/5473041867866112/lesson/a11c24f9fcb68dd8f3e20ce81df17102?ref=outlook-calendar
DESCRIPTION: This lesson covers active interception and privilege escalation.

https://www.learndesk.us/class/5473041867866112/lesson/a11c24f9fcb68dd8f3e20ce81df17102?ref=outlook-calendar
STATUS:CONFIRMED
SEQUENCE:3
BEGIN:VALARM
TRIGGER:-PT10M
DESCRIPTION:Class Reminder
ACTION:DISPLAY
END:VALARM
END:VEVENT
END:VCALENDAR