BEGIN:VCALENDAR
VERSION:2.0
CALSCALE:GREGORIAN
BEGIN:VEVENT
URL:https://www.learndesk.us/class/5473041867866112/lesson/9f6c34092a2bbe4e7542c672c47ab0c0?ref=outlook-calendar
SUMMARY:Demo: SOHO Firewall
DTSTART;TZID=America/Los_Angeles:20260422T190000
DTEND;TZID=America/Los_Angeles:20260422T200000
LOCATION:https://www.learndesk.us/class/5473041867866112/lesson/9f6c34092a2bbe4e7542c672c47ab0c0?ref=outlook-calendar
DESCRIPTION: In this demonstration, we will explore a basic SOHO network firewall.

https://www.learndesk.us/class/5473041867866112/lesson/9f6c34092a2bbe4e7542c672c47ab0c0?ref=outlook-calendar
STATUS:CONFIRMED
SEQUENCE:3
BEGIN:VALARM
TRIGGER:-PT10M
DESCRIPTION:Class Reminder
ACTION:DISPLAY
END:VALARM
END:VEVENT
END:VCALENDAR