BEGIN:VCALENDAR
VERSION:2.0
CALSCALE:GREGORIAN
BEGIN:VEVENT
URL:https://www.learndesk.us/class/5473041867866112/lesson/9f01cf31abf9323916bf053b4dc2ffbd?ref=outlook-calendar
SUMMARY:Phishing
DTSTART;TZID=America/Los_Angeles:20260422T190000
DTEND;TZID=America/Los_Angeles:20260422T200000
LOCATION:https://www.learndesk.us/class/5473041867866112/lesson/9f01cf31abf9323916bf053b4dc2ffbd?ref=outlook-calendar
DESCRIPTION: In this lesson, we will review the different types of phishing.

https://www.learndesk.us/class/5473041867866112/lesson/9f01cf31abf9323916bf053b4dc2ffbd?ref=outlook-calendar
STATUS:CONFIRMED
SEQUENCE:3
BEGIN:VALARM
TRIGGER:-PT10M
DESCRIPTION:Class Reminder
ACTION:DISPLAY
END:VALARM
END:VEVENT
END:VCALENDAR