BEGIN:VCALENDAR
VERSION:2.0
CALSCALE:GREGORIAN
BEGIN:VEVENT
URL:https://www.learndesk.us/class/5473041867866112/lesson/9e24363be1c1f0b5bc67b1e6f772521d?ref=outlook-calendar
SUMMARY:Perimeter Security
DTSTART;TZID=America/Los_Angeles:20260422T190000
DTEND;TZID=America/Los_Angeles:20260422T200000
LOCATION:https://www.learndesk.us/class/5473041867866112/lesson/9e24363be1c1f0b5bc67b1e6f772521d?ref=outlook-calendar
DESCRIPTION: 
Learn about Perimeter Security.

Perimeter security
Firewalls
Demo: SOHO firewall
Proxy servers
Honeypots and Honeynets
Data loss prevention
NIDS and NIPS
Unified threat management



https://www.learndesk.us/class/5473041867866112/lesson/9e24363be1c1f0b5bc67b1e6f772521d?ref=outlook-calendar
STATUS:CONFIRMED
SEQUENCE:3
BEGIN:VALARM
TRIGGER:-PT10M
DESCRIPTION:Class Reminder
ACTION:DISPLAY
END:VALARM
END:VEVENT
END:VCALENDAR