BEGIN:VCALENDAR
VERSION:2.0
CALSCALE:GREGORIAN
BEGIN:VEVENT
URL:https://www.learndesk.us/class/5473041867866112/lesson/9be0f141551633f4061679cd4cc83183?ref=outlook-calendar
SUMMARY:Demo: Wireless Attack
DTSTART;TZID=America/Los_Angeles:20260423T190000
DTEND;TZID=America/Los_Angeles:20260423T200000
LOCATION:https://www.learndesk.us/class/5473041867866112/lesson/9be0f141551633f4061679cd4cc83183?ref=outlook-calendar
DESCRIPTION: In this demonstration, you will see how easy it is to conduct a wireless attack against the WEP protocol.

https://www.learndesk.us/class/5473041867866112/lesson/9be0f141551633f4061679cd4cc83183?ref=outlook-calendar
STATUS:CONFIRMED
SEQUENCE:3
BEGIN:VALARM
TRIGGER:-PT10M
DESCRIPTION:Class Reminder
ACTION:DISPLAY
END:VALARM
END:VEVENT
END:VCALENDAR