BEGIN:VCALENDAR
VERSION:2.0
CALSCALE:GREGORIAN
BEGIN:VEVENT
URL:https://www.learndesk.us/class/5473041867866112/lesson/9760697746703abe4e909d0d89db883f?ref=outlook-calendar
SUMMARY:Transitive Attacks
DTSTART;TZID=America/Los_Angeles:20260422T190000
DTEND;TZID=America/Los_Angeles:20260422T200000
LOCATION:https://www.learndesk.us/class/5473041867866112/lesson/9760697746703abe4e909d0d89db883f?ref=outlook-calendar
DESCRIPTION: In this lesson, you will learn how the transitive property from math class is used to conduct network attacks.

https://www.learndesk.us/class/5473041867866112/lesson/9760697746703abe4e909d0d89db883f?ref=outlook-calendar
STATUS:CONFIRMED
SEQUENCE:3
BEGIN:VALARM
TRIGGER:-PT10M
DESCRIPTION:Class Reminder
ACTION:DISPLAY
END:VALARM
END:VEVENT
END:VCALENDAR