BEGIN:VCALENDAR
VERSION:2.0
CALSCALE:GREGORIAN
BEGIN:VEVENT
URL:https://www.learndesk.us/class/5473041867866112/lesson/94391876f87dc70496d00386dd1a67c9?ref=outlook-calendar
SUMMARY:Hardening Mobile Devices
DTSTART;TZID=America/Los_Angeles:20260422T190000
DTEND;TZID=America/Los_Angeles:20260422T200000
LOCATION:https://www.learndesk.us/class/5473041867866112/lesson/94391876f87dc70496d00386dd1a67c9?ref=outlook-calendar
DESCRIPTION: This lesson provides a summary of the type of actions you can take to best harden your mobile devices.

https://www.learndesk.us/class/5473041867866112/lesson/94391876f87dc70496d00386dd1a67c9?ref=outlook-calendar
STATUS:CONFIRMED
SEQUENCE:3
BEGIN:VALARM
TRIGGER:-PT10M
DESCRIPTION:Class Reminder
ACTION:DISPLAY
END:VALARM
END:VEVENT
END:VCALENDAR