BEGIN:VCALENDAR
VERSION:2.0
CALSCALE:GREGORIAN
BEGIN:VEVENT
URL:https://www.learndesk.us/class/5473041867866112/lesson/941788b24371aa1480e54c1bc560cbbc?ref=outlook-calendar
SUMMARY:Hardening
DTSTART;TZID=America/Los_Angeles:20260422T190000
DTEND;TZID=America/Los_Angeles:20260422T200000
LOCATION:https://www.learndesk.us/class/5473041867866112/lesson/941788b24371aa1480e54c1bc560cbbc?ref=outlook-calendar
DESCRIPTION: 
Learn about Hardening.

Hardening
Unnecessary applications
Restricting applications
Demo: Unnecessary services
Trusted Operating system
Updates and patches
Patch management
Group policies
Demo: Group policies
File systems and Hard drivesx



https://www.learndesk.us/class/5473041867866112/lesson/941788b24371aa1480e54c1bc560cbbc?ref=outlook-calendar
STATUS:CONFIRMED
SEQUENCE:3
BEGIN:VALARM
TRIGGER:-PT10M
DESCRIPTION:Class Reminder
ACTION:DISPLAY
END:VALARM
END:VEVENT
END:VCALENDAR