BEGIN:VCALENDAR
VERSION:2.0
CALSCALE:GREGORIAN
BEGIN:VEVENT
URL:https://www.learndesk.us/class/5473041867866112/lesson/93fd475ac95e5301660096a8328e6660?ref=outlook-calendar
SUMMARY:Denial of Service
DTSTART;TZID=America/Los_Angeles:20260422T190000
DTEND;TZID=America/Los_Angeles:20260422T200000
LOCATION:https://www.learndesk.us/class/5473041867866112/lesson/93fd475ac95e5301660096a8328e6660?ref=outlook-calendar
DESCRIPTION: In this lesson, we will cover the various types of Denial of Service (DoS) attacks covered by the Security+ exam.

https://www.learndesk.us/class/5473041867866112/lesson/93fd475ac95e5301660096a8328e6660?ref=outlook-calendar
STATUS:CONFIRMED
SEQUENCE:3
BEGIN:VALARM
TRIGGER:-PT10M
DESCRIPTION:Class Reminder
ACTION:DISPLAY
END:VALARM
END:VEVENT
END:VCALENDAR