BEGIN:VCALENDAR
VERSION:2.0
CALSCALE:GREGORIAN
BEGIN:VEVENT
URL:https://www.learndesk.us/class/5473041867866112/lesson/9314e350ca42a286c84a95caeffeef0f?ref=outlook-calendar
SUMMARY:Securing Network Media
DTSTART;TZID=America/Los_Angeles:20260424T190000
DTEND;TZID=America/Los_Angeles:20260424T200000
LOCATION:https://www.learndesk.us/class/5473041867866112/lesson/9314e350ca42a286c84a95caeffeef0f?ref=outlook-calendar
DESCRIPTION: In this lesson, you will learn the best practices to ensure the security of your network cables and the data they contain.

https://www.learndesk.us/class/5473041867866112/lesson/9314e350ca42a286c84a95caeffeef0f?ref=outlook-calendar
STATUS:CONFIRMED
SEQUENCE:3
BEGIN:VALARM
TRIGGER:-PT10M
DESCRIPTION:Class Reminder
ACTION:DISPLAY
END:VALARM
END:VEVENT
END:VCALENDAR