BEGIN:VCALENDAR
VERSION:2.0
CALSCALE:GREGORIAN
BEGIN:VEVENT
URL:https://www.learndesk.us/class/5473041867866112/lesson/929dd643c2c7e71f59d7653ff984ab55?ref=outlook-calendar
SUMMARY:Policies and Procedures
DTSTART;TZID=America/Los_Angeles:20260422T190000
DTEND;TZID=America/Los_Angeles:20260422T200000
LOCATION:https://www.learndesk.us/class/5473041867866112/lesson/929dd643c2c7e71f59d7653ff984ab55?ref=outlook-calendar
DESCRIPTION: In this lesson, you will get an introduction to the policies and procedures portion of the course.

https://www.learndesk.us/class/5473041867866112/lesson/929dd643c2c7e71f59d7653ff984ab55?ref=outlook-calendar
STATUS:CONFIRMED
SEQUENCE:3
BEGIN:VALARM
TRIGGER:-PT10M
DESCRIPTION:Class Reminder
ACTION:DISPLAY
END:VALARM
END:VEVENT
END:VCALENDAR