BEGIN:VCALENDAR
VERSION:2.0
CALSCALE:GREGORIAN
BEGIN:VEVENT
URL:https://www.learndesk.us/class/5473041867866112/lesson/8cb8fe30357951aac7c6fbdd37c8c3f3?ref=outlook-calendar
SUMMARY:Threat Actors
DTSTART;TZID=America/Los_Angeles:20260422T190000
DTEND;TZID=America/Los_Angeles:20260422T200000
LOCATION:https://www.learndesk.us/class/5473041867866112/lesson/8cb8fe30357951aac7c6fbdd37c8c3f3?ref=outlook-calendar
DESCRIPTION: This lesson covers the four types of threat actors covered by the Security+ exam: script kiddies, hacktivists, organized crime groups, and advanced persistent threats (APTs).

https://www.learndesk.us/class/5473041867866112/lesson/8cb8fe30357951aac7c6fbdd37c8c3f3?ref=outlook-calendar
STATUS:CONFIRMED
SEQUENCE:3
BEGIN:VALARM
TRIGGER:-PT10M
DESCRIPTION:Class Reminder
ACTION:DISPLAY
END:VALARM
END:VEVENT
END:VCALENDAR