BEGIN:VCALENDAR
VERSION:2.0
CALSCALE:GREGORIAN
BEGIN:VEVENT
URL:https://www.learndesk.us/class/5473041867866112/lesson/8abed67d054fc5187509b9b330ca25ce?ref=outlook-calendar
SUMMARY:Risk Assessments
DTSTART;TZID=America/Los_Angeles:20260422T190000
DTEND;TZID=America/Los_Angeles:20260422T200000
LOCATION:https://www.learndesk.us/class/5473041867866112/lesson/8abed67d054fc5187509b9b330ca25ce?ref=outlook-calendar
DESCRIPTION: 
Learn about Risk Assessments.

Risk assessments
Qualitative risk
Quantitative risk
Methodologies
Security controls
Vulnerability management
Penetration testing
OVAL
Vulnerability assessments
Demo: Nmap scanning
Demo: Vulnerability scanning
Password analysis
Demo: Password cracking



https://www.learndesk.us/class/5473041867866112/lesson/8abed67d054fc5187509b9b330ca25ce?ref=outlook-calendar
STATUS:CONFIRMED
SEQUENCE:3
BEGIN:VALARM
TRIGGER:-PT10M
DESCRIPTION:Class Reminder
ACTION:DISPLAY
END:VALARM
END:VEVENT
END:VCALENDAR