BEGIN:VCALENDAR
VERSION:2.0
CALSCALE:GREGORIAN
BEGIN:VEVENT
URL:https://www.learndesk.us/class/5473041867866112/lesson/89f97d56eef279823b8877696b82190f?ref=outlook-calendar
SUMMARY:Backup Power
DTSTART;TZID=America/Los_Angeles:20260422T190000
DTEND;TZID=America/Los_Angeles:20260422T200000
LOCATION:https://www.learndesk.us/class/5473041867866112/lesson/89f97d56eef279823b8877696b82190f?ref=outlook-calendar
DESCRIPTION: In this lesson, we will discuss the types of backup power you can use for your networks.

https://www.learndesk.us/class/5473041867866112/lesson/89f97d56eef279823b8877696b82190f?ref=outlook-calendar
STATUS:CONFIRMED
SEQUENCE:3
BEGIN:VALARM
TRIGGER:-PT10M
DESCRIPTION:Class Reminder
ACTION:DISPLAY
END:VALARM
END:VEVENT
END:VCALENDAR