BEGIN:VCALENDAR
VERSION:2.0
CALSCALE:GREGORIAN
BEGIN:VEVENT
URL:https://www.learndesk.us/class/5473041867866112/lesson/88140d995e3f9c4e6536a77ea41e53b4?ref=outlook-calendar
SUMMARY:Demo: Null Sessions
DTSTART;TZID=America/Los_Angeles:20260422T190000
DTEND;TZID=America/Los_Angeles:20260422T200000
LOCATION:https://www.learndesk.us/class/5473041867866112/lesson/88140d995e3f9c4e6536a77ea41e53b4?ref=outlook-calendar
DESCRIPTION: In this lesson, you will learn how null sessions are used to conduct information gathering on a network and see a quick demonstration of this technique.

https://www.learndesk.us/class/5473041867866112/lesson/88140d995e3f9c4e6536a77ea41e53b4?ref=outlook-calendar
STATUS:CONFIRMED
SEQUENCE:3
BEGIN:VALARM
TRIGGER:-PT10M
DESCRIPTION:Class Reminder
ACTION:DISPLAY
END:VALARM
END:VEVENT
END:VCALENDAR