BEGIN:VCALENDAR
VERSION:2.0
CALSCALE:GREGORIAN
BEGIN:VEVENT
URL:https://www.learndesk.us/class/5473041867866112/lesson/856ab978c9f9059c2acb640a3330f619?ref=outlook-calendar
SUMMARY:Security of Apps
DTSTART;TZID=America/Los_Angeles:20260422T190000
DTEND;TZID=America/Los_Angeles:20260422T200000
LOCATION:https://www.learndesk.us/class/5473041867866112/lesson/856ab978c9f9059c2acb640a3330f619?ref=outlook-calendar
DESCRIPTION: This lesson covers the dangers of mobile apps.

https://www.learndesk.us/class/5473041867866112/lesson/856ab978c9f9059c2acb640a3330f619?ref=outlook-calendar
STATUS:CONFIRMED
SEQUENCE:3
BEGIN:VALARM
TRIGGER:-PT10M
DESCRIPTION:Class Reminder
ACTION:DISPLAY
END:VALARM
END:VEVENT
END:VCALENDAR