BEGIN:VCALENDAR
VERSION:2.0
CALSCALE:GREGORIAN
BEGIN:VEVENT
URL:https://www.learndesk.us/class/5473041867866112/lesson/82a57f16ad71f406b8fe460637bd9fd9?ref=outlook-calendar
SUMMARY:Social Engineering
DTSTART;TZID=America/Los_Angeles:20260422T190000
DTEND;TZID=America/Los_Angeles:20260422T200000
LOCATION:https://www.learndesk.us/class/5473041867866112/lesson/82a57f16ad71f406b8fe460637bd9fd9?ref=outlook-calendar
DESCRIPTION: In this lesson, you will be introduced to the concept of social engineering and learn the reason why it is effective.

https://www.learndesk.us/class/5473041867866112/lesson/82a57f16ad71f406b8fe460637bd9fd9?ref=outlook-calendar
STATUS:CONFIRMED
SEQUENCE:3
BEGIN:VALARM
TRIGGER:-PT10M
DESCRIPTION:Class Reminder
ACTION:DISPLAY
END:VALARM
END:VEVENT
END:VCALENDAR