BEGIN:VCALENDAR
VERSION:2.0
CALSCALE:GREGORIAN
BEGIN:VEVENT
URL:https://www.learndesk.us/class/5473041867866112/lesson/7b73d598f8ca3f4a53f695e0571a2a1a?ref=outlook-calendar
SUMMARY:VLANs
DTSTART;TZID=America/Los_Angeles:20260422T190000
DTEND;TZID=America/Los_Angeles:20260422T200000
LOCATION:https://www.learndesk.us/class/5473041867866112/lesson/7b73d598f8ca3f4a53f695e0571a2a1a?ref=outlook-calendar
DESCRIPTION: This lesson discusses how VLANs are used to secure our networks.

https://www.learndesk.us/class/5473041867866112/lesson/7b73d598f8ca3f4a53f695e0571a2a1a?ref=outlook-calendar
STATUS:CONFIRMED
SEQUENCE:3
BEGIN:VALARM
TRIGGER:-PT10M
DESCRIPTION:Class Reminder
ACTION:DISPLAY
END:VALARM
END:VEVENT
END:VCALENDAR