BEGIN:VCALENDAR
VERSION:2.0
CALSCALE:GREGORIAN
BEGIN:VEVENT
URL:https://www.learndesk.us/class/5473041867866112/lesson/796f8628b99c17ebb0ec6ab38dce2542?ref=outlook-calendar
SUMMARY:File Systems and Hard Drives
DTSTART;TZID=America/Los_Angeles:20260422T190000
DTEND;TZID=America/Los_Angeles:20260422T200000
LOCATION:https://www.learndesk.us/class/5473041867866112/lesson/796f8628b99c17ebb0ec6ab38dce2542?ref=outlook-calendar
DESCRIPTION: This lesson discusses the various ways to harden file systems and hard drives.

https://www.learndesk.us/class/5473041867866112/lesson/796f8628b99c17ebb0ec6ab38dce2542?ref=outlook-calendar
STATUS:CONFIRMED
SEQUENCE:3
BEGIN:VALARM
TRIGGER:-PT10M
DESCRIPTION:Class Reminder
ACTION:DISPLAY
END:VALARM
END:VEVENT
END:VCALENDAR