BEGIN:VCALENDAR
VERSION:2.0
CALSCALE:GREGORIAN
BEGIN:VEVENT
URL:https://www.learndesk.us/class/5473041867866112/lesson/76fb2ef7e4d6ed339e22b9f82a24810a?ref=outlook-calendar
SUMMARY:Unnecessary Applications
DTSTART;TZID=America/Los_Angeles:20260422T190000
DTEND;TZID=America/Los_Angeles:20260422T200000
LOCATION:https://www.learndesk.us/class/5473041867866112/lesson/76fb2ef7e4d6ed339e22b9f82a24810a?ref=outlook-calendar
DESCRIPTION: This lesson discusses the concept of least functionality and how it is applied by removing unnecessary applications.

https://www.learndesk.us/class/5473041867866112/lesson/76fb2ef7e4d6ed339e22b9f82a24810a?ref=outlook-calendar
STATUS:CONFIRMED
SEQUENCE:3
BEGIN:VALARM
TRIGGER:-PT10M
DESCRIPTION:Class Reminder
ACTION:DISPLAY
END:VALARM
END:VEVENT
END:VCALENDAR