BEGIN:VCALENDAR
VERSION:2.0
CALSCALE:GREGORIAN
BEGIN:VEVENT
URL:https://www.learndesk.us/class/5473041867866112/lesson/761069b802de0e08b6582742a67a43da?ref=outlook-calendar
SUMMARY:Securing Network Devices
DTSTART;TZID=America/Los_Angeles:20260422T190000
DTEND;TZID=America/Los_Angeles:20260422T200000
LOCATION:https://www.learndesk.us/class/5473041867866112/lesson/761069b802de0e08b6582742a67a43da?ref=outlook-calendar
DESCRIPTION: In this lesson, you will learn the best practices to secure your network devices.

https://www.learndesk.us/class/5473041867866112/lesson/761069b802de0e08b6582742a67a43da?ref=outlook-calendar
STATUS:CONFIRMED
SEQUENCE:3
BEGIN:VALARM
TRIGGER:-PT10M
DESCRIPTION:Class Reminder
ACTION:DISPLAY
END:VALARM
END:VEVENT
END:VCALENDAR