BEGIN:VCALENDAR
VERSION:2.0
CALSCALE:GREGORIAN
BEGIN:VEVENT
URL:https://www.learndesk.us/class/5473041867866112/lesson/71100b1844bbe4e4c67f375af541733f?ref=outlook-calendar
SUMMARY:Welcome
DTSTART;TZID=America/Los_Angeles:20260422T190000
DTEND;TZID=America/Los_Angeles:20260422T200000
LOCATION:https://www.learndesk.us/class/5473041867866112/lesson/71100b1844bbe4e4c67f375af541733f?ref=outlook-calendar
DESCRIPTION: A short welcome to the course, a brief background of the instructor, information on the exam itself, and where to buy your exam voucher at a discount.

https://www.learndesk.us/class/5473041867866112/lesson/71100b1844bbe4e4c67f375af541733f?ref=outlook-calendar
STATUS:CONFIRMED
SEQUENCE:3
BEGIN:VALARM
TRIGGER:-PT10M
DESCRIPTION:Class Reminder
ACTION:DISPLAY
END:VALARM
END:VEVENT
END:VCALENDAR