BEGIN:VCALENDAR
VERSION:2.0
CALSCALE:GREGORIAN
BEGIN:VEVENT
URL:https://www.learndesk.us/class/5473041867866112/lesson/6f08f5bcd8915f9e6741a6b0dc5b024f?ref=outlook-calendar
SUMMARY:Application Security
DTSTART;TZID=America/Los_Angeles:20260422T190000
DTEND;TZID=America/Los_Angeles:20260422T200000
LOCATION:https://www.learndesk.us/class/5473041867866112/lesson/6f08f5bcd8915f9e6741a6b0dc5b024f?ref=outlook-calendar
DESCRIPTION: 
Learn about Application Security.

Application security
Web browser security
Web browser concerns
Demo: Web browser configuration
Securing applications



https://www.learndesk.us/class/5473041867866112/lesson/6f08f5bcd8915f9e6741a6b0dc5b024f?ref=outlook-calendar
STATUS:CONFIRMED
SEQUENCE:3
BEGIN:VALARM
TRIGGER:-PT10M
DESCRIPTION:Class Reminder
ACTION:DISPLAY
END:VALARM
END:VEVENT
END:VCALENDAR