BEGIN:VCALENDAR
VERSION:2.0
CALSCALE:GREGORIAN
BEGIN:VEVENT
URL:https://www.learndesk.us/class/5473041867866112/lesson/6ccebb538436b654ace0774e314eb5d8?ref=outlook-calendar
SUMMARY:Demo: Software Firewalls
DTSTART;TZID=America/Los_Angeles:20260423T190000
DTEND;TZID=America/Los_Angeles:20260423T200000
LOCATION:https://www.learndesk.us/class/5473041867866112/lesson/6ccebb538436b654ace0774e314eb5d8?ref=outlook-calendar
DESCRIPTION: This demonstration shows how to set up Windows and OSX firewalls.

https://www.learndesk.us/class/5473041867866112/lesson/6ccebb538436b654ace0774e314eb5d8?ref=outlook-calendar
STATUS:CONFIRMED
SEQUENCE:3
BEGIN:VALARM
TRIGGER:-PT10M
DESCRIPTION:Class Reminder
ACTION:DISPLAY
END:VALARM
END:VEVENT
END:VCALENDAR