BEGIN:VCALENDAR
VERSION:2.0
CALSCALE:GREGORIAN
BEGIN:VEVENT
URL:https://www.learndesk.us/class/5473041867866112/lesson/6a900054d8b10e8246d33a07a2737cbe?ref=outlook-calendar
SUMMARY:Demo: Privilege Escalation
DTSTART;TZID=America/Los_Angeles:20260422T190000
DTEND;TZID=America/Los_Angeles:20260422T200000
LOCATION:https://www.learndesk.us/class/5473041867866112/lesson/6a900054d8b10e8246d33a07a2737cbe?ref=outlook-calendar
DESCRIPTION: This demonstration will show you how an attacker might gain access to a system by using an exploit that provides privilege escalation.

https://www.learndesk.us/class/5473041867866112/lesson/6a900054d8b10e8246d33a07a2737cbe?ref=outlook-calendar
STATUS:CONFIRMED
SEQUENCE:3
BEGIN:VALARM
TRIGGER:-PT10M
DESCRIPTION:Class Reminder
ACTION:DISPLAY
END:VALARM
END:VEVENT
END:VCALENDAR