BEGIN:VCALENDAR
VERSION:2.0
CALSCALE:GREGORIAN
BEGIN:VEVENT
URL:https://www.learndesk.us/class/5473041867866112/lesson/691c12ea392baec36cac806a75403c02?ref=outlook-calendar
SUMMARY:OVAL
DTSTART;TZID=America/Los_Angeles:20260422T190000
DTEND;TZID=America/Los_Angeles:20260422T200000
LOCATION:https://www.learndesk.us/class/5473041867866112/lesson/691c12ea392baec36cac806a75403c02?ref=outlook-calendar
DESCRIPTION: In this lesson, you will learn about the Open Vulnerability and Assessment Language (OVAL).

https://www.learndesk.us/class/5473041867866112/lesson/691c12ea392baec36cac806a75403c02?ref=outlook-calendar
STATUS:CONFIRMED
SEQUENCE:3
BEGIN:VALARM
TRIGGER:-PT10M
DESCRIPTION:Class Reminder
ACTION:DISPLAY
END:VALARM
END:VEVENT
END:VCALENDAR