BEGIN:VCALENDAR
VERSION:2.0
CALSCALE:GREGORIAN
BEGIN:VEVENT
URL:https://www.learndesk.us/class/5473041867866112/lesson/66c083118df6e2752695e74677e279cd?ref=outlook-calendar
SUMMARY:Virtualization
DTSTART;TZID=America/Los_Angeles:20260422T190000
DTEND;TZID=America/Los_Angeles:20260422T200000
LOCATION:https://www.learndesk.us/class/5473041867866112/lesson/66c083118df6e2752695e74677e279cd?ref=outlook-calendar
DESCRIPTION: This lesson discusses the concept of virtualization, its types, and how they are utilized in our organizations.

https://www.learndesk.us/class/5473041867866112/lesson/66c083118df6e2752695e74677e279cd?ref=outlook-calendar
STATUS:CONFIRMED
SEQUENCE:3
BEGIN:VALARM
TRIGGER:-PT10M
DESCRIPTION:Class Reminder
ACTION:DISPLAY
END:VALARM
END:VEVENT
END:VCALENDAR