BEGIN:VCALENDAR
VERSION:2.0
CALSCALE:GREGORIAN
BEGIN:VEVENT
URL:https://www.learndesk.us/class/5473041867866112/lesson/658f7bce3076d4a2457ae6fec9ddb936?ref=outlook-calendar
SUMMARY:Software Firewalls
DTSTART;TZID=America/Los_Angeles:20260424T190000
DTEND;TZID=America/Los_Angeles:20260424T200000
LOCATION:https://www.learndesk.us/class/5473041867866112/lesson/658f7bce3076d4a2457ae6fec9ddb936?ref=outlook-calendar
DESCRIPTION: This lesson describes software firewalls, how they are different from our network firewalls, and the most commonly used software firewalls in today's computers.

https://www.learndesk.us/class/5473041867866112/lesson/658f7bce3076d4a2457ae6fec9ddb936?ref=outlook-calendar
STATUS:CONFIRMED
SEQUENCE:3
BEGIN:VALARM
TRIGGER:-PT10M
DESCRIPTION:Class Reminder
ACTION:DISPLAY
END:VALARM
END:VEVENT
END:VCALENDAR