BEGIN:VCALENDAR
VERSION:2.0
CALSCALE:GREGORIAN
BEGIN:VEVENT
URL:https://www.learndesk.us/class/5473041867866112/lesson/5e957d4592d2606f3ce99b7089ba0406?ref=outlook-calendar
SUMMARY:Hijacking
DTSTART;TZID=America/Los_Angeles:20260422T190000
DTEND;TZID=America/Los_Angeles:20260422T200000
LOCATION:https://www.learndesk.us/class/5473041867866112/lesson/5e957d4592d2606f3ce99b7089ba0406?ref=outlook-calendar
DESCRIPTION: In this lesson, we will discuss the various forms of hijacking that is conducted against a network.

https://www.learndesk.us/class/5473041867866112/lesson/5e957d4592d2606f3ce99b7089ba0406?ref=outlook-calendar
STATUS:CONFIRMED
SEQUENCE:3
BEGIN:VALARM
TRIGGER:-PT10M
DESCRIPTION:Class Reminder
ACTION:DISPLAY
END:VALARM
END:VEVENT
END:VCALENDAR