BEGIN:VCALENDAR
VERSION:2.0
CALSCALE:GREGORIAN
BEGIN:VEVENT
URL:https://www.learndesk.us/class/5473041867866112/lesson/5c1f4226fdff1305504402a4c50ce57f?ref=outlook-calendar
SUMMARY:More Social Engineering
DTSTART;TZID=America/Los_Angeles:20260422T190000
DTEND;TZID=America/Los_Angeles:20260422T200000
LOCATION:https://www.learndesk.us/class/5473041867866112/lesson/5c1f4226fdff1305504402a4c50ce57f?ref=outlook-calendar
DESCRIPTION: In this lesson, we cover additional types of social engineering, including diversion theft, shoulder surfing, eavesdropping, dumpster diving, baiting, piggybacking/tailgating, watering hole attack, diversion theft, and hoaxes.

https://www.learndesk.us/class/5473041867866112/lesson/5c1f4226fdff1305504402a4c50ce57f?ref=outlook-calendar
STATUS:CONFIRMED
SEQUENCE:3
BEGIN:VALARM
TRIGGER:-PT10M
DESCRIPTION:Class Reminder
ACTION:DISPLAY
END:VALARM
END:VEVENT
END:VCALENDAR