BEGIN:VCALENDAR
VERSION:2.0
CALSCALE:GREGORIAN
BEGIN:VEVENT
URL:https://www.learndesk.us/class/5473041867866112/lesson/5bab37dce72e1617de0c50efc722f034?ref=outlook-calendar
SUMMARY:Securing Networks
DTSTART;TZID=America/Los_Angeles:20260422T190000
DTEND;TZID=America/Los_Angeles:20260422T200000
LOCATION:https://www.learndesk.us/class/5473041867866112/lesson/5bab37dce72e1617de0c50efc722f034?ref=outlook-calendar
DESCRIPTION: In this section, you will learn different techniques to help secure your network devices from an attack.

https://www.learndesk.us/class/5473041867866112/lesson/5bab37dce72e1617de0c50efc722f034?ref=outlook-calendar
STATUS:CONFIRMED
SEQUENCE:3
BEGIN:VALARM
TRIGGER:-PT10M
DESCRIPTION:Class Reminder
ACTION:DISPLAY
END:VALARM
END:VEVENT
END:VCALENDAR