BEGIN:VCALENDAR
VERSION:2.0
CALSCALE:GREGORIAN
BEGIN:VEVENT
URL:https://www.learndesk.us/class/5473041867866112/lesson/58b3d01584c89e6f82abec539b280e32?ref=outlook-calendar
SUMMARY:User Account Control
DTSTART;TZID=America/Los_Angeles:20260422T190000
DTEND;TZID=America/Los_Angeles:20260422T200000
LOCATION:https://www.learndesk.us/class/5473041867866112/lesson/58b3d01584c89e6f82abec539b280e32?ref=outlook-calendar
DESCRIPTION: In this lesson, you will be introduced to the User Account Control (UAC) feature in Windows.

https://www.learndesk.us/class/5473041867866112/lesson/58b3d01584c89e6f82abec539b280e32?ref=outlook-calendar
STATUS:CONFIRMED
SEQUENCE:3
BEGIN:VALARM
TRIGGER:-PT10M
DESCRIPTION:Class Reminder
ACTION:DISPLAY
END:VALARM
END:VEVENT
END:VCALENDAR