BEGIN:VCALENDAR
VERSION:2.0
CALSCALE:GREGORIAN
BEGIN:VEVENT
URL:https://www.learndesk.us/class/5473041867866112/lesson/57ef406f3105b41ddeb6cb8f2f89b795?ref=outlook-calendar
SUMMARY:Demo: Certificates
DTSTART;TZID=America/Los_Angeles:20260422T190000
DTEND;TZID=America/Los_Angeles:20260422T200000
LOCATION:https://www.learndesk.us/class/5473041867866112/lesson/57ef406f3105b41ddeb6cb8f2f89b795?ref=outlook-calendar
DESCRIPTION: In this demonstration, we will explore the digital certificates associated with a website.

https://www.learndesk.us/class/5473041867866112/lesson/57ef406f3105b41ddeb6cb8f2f89b795?ref=outlook-calendar
STATUS:CONFIRMED
SEQUENCE:3
BEGIN:VALARM
TRIGGER:-PT10M
DESCRIPTION:Class Reminder
ACTION:DISPLAY
END:VALARM
END:VEVENT
END:VCALENDAR