BEGIN:VCALENDAR
VERSION:2.0
CALSCALE:GREGORIAN
BEGIN:VEVENT
URL:https://www.learndesk.us/class/5473041867866112/lesson/516c60368657859c604922bf0f1d94c2?ref=outlook-calendar
SUMMARY:Demo: Viruses and Trojans
DTSTART;TZID=America/Los_Angeles:20260422T190000
DTEND;TZID=America/Los_Angeles:20260422T200000
LOCATION:https://www.learndesk.us/class/5473041867866112/lesson/516c60368657859c604922bf0f1d94c2?ref=outlook-calendar
DESCRIPTION: This lesson provides a demonstration of how to create and distribute viruses and Trojans in a lab environment.

https://www.learndesk.us/class/5473041867866112/lesson/516c60368657859c604922bf0f1d94c2?ref=outlook-calendar
STATUS:CONFIRMED
SEQUENCE:3
BEGIN:VALARM
TRIGGER:-PT10M
DESCRIPTION:Class Reminder
ACTION:DISPLAY
END:VALARM
END:VEVENT
END:VCALENDAR