BEGIN:VCALENDAR
VERSION:2.0
CALSCALE:GREGORIAN
BEGIN:VEVENT
URL:https://www.learndesk.us/class/5473041867866112/lesson/4f70d4b855574849113b4b878d1ad265?ref=outlook-calendar
SUMMARY:Incident Response Procedures
DTSTART;TZID=America/Los_Angeles:20260422T190000
DTEND;TZID=America/Los_Angeles:20260422T200000
LOCATION:https://www.learndesk.us/class/5473041867866112/lesson/4f70d4b855574849113b4b878d1ad265?ref=outlook-calendar
DESCRIPTION: In this lesson, you will learn the basics of incident response.

https://www.learndesk.us/class/5473041867866112/lesson/4f70d4b855574849113b4b878d1ad265?ref=outlook-calendar
STATUS:CONFIRMED
SEQUENCE:3
BEGIN:VALARM
TRIGGER:-PT10M
DESCRIPTION:Class Reminder
ACTION:DISPLAY
END:VALARM
END:VEVENT
END:VCALENDAR