BEGIN:VCALENDAR
VERSION:2.0
CALSCALE:GREGORIAN
BEGIN:VEVENT
URL:https://www.learndesk.us/class/5473041867866112/lesson/4f68bae5f31049f4418561dac7ccb722?ref=outlook-calendar
SUMMARY:Summary of Malware
DTSTART;TZID=America/Los_Angeles:20260422T190000
DTEND;TZID=America/Los_Angeles:20260422T200000
LOCATION:https://www.learndesk.us/class/5473041867866112/lesson/4f68bae5f31049f4418561dac7ccb722?ref=outlook-calendar
DESCRIPTION: The Basics of Sqlmap: Demo

https://www.learndesk.us/class/5473041867866112/lesson/4f68bae5f31049f4418561dac7ccb722?ref=outlook-calendar
STATUS:CONFIRMED
SEQUENCE:3
BEGIN:VALARM
TRIGGER:-PT10M
DESCRIPTION:Class Reminder
ACTION:DISPLAY
END:VALARM
END:VEVENT
END:VCALENDAR