BEGIN:VCALENDAR
VERSION:2.0
CALSCALE:GREGORIAN
BEGIN:VEVENT
URL:https://www.learndesk.us/class/5473041867866112/lesson/4b9b947e8606eb03733342eb478ecf6c?ref=outlook-calendar
SUMMARY:Software Development
DTSTART;TZID=America/Los_Angeles:20260422T190000
DTEND;TZID=America/Los_Angeles:20260422T200000
LOCATION:https://www.learndesk.us/class/5473041867866112/lesson/4b9b947e8606eb03733342eb478ecf6c?ref=outlook-calendar
DESCRIPTION: This lesson discusses secure software development and the Software Development Life Cycle (SDLC).

https://www.learndesk.us/class/5473041867866112/lesson/4b9b947e8606eb03733342eb478ecf6c?ref=outlook-calendar
STATUS:CONFIRMED
SEQUENCE:3
BEGIN:VALARM
TRIGGER:-PT10M
DESCRIPTION:Class Reminder
ACTION:DISPLAY
END:VALARM
END:VEVENT
END:VCALENDAR