BEGIN:VCALENDAR
VERSION:2.0
CALSCALE:GREGORIAN
BEGIN:VEVENT
URL:https://www.learndesk.us/class/5473041867866112/lesson/47cee06c365bccff7e448a788b9700f9?ref=outlook-calendar
SUMMARY:Users and Groups
DTSTART;TZID=America/Los_Angeles:20260422T190000
DTEND;TZID=America/Los_Angeles:20260422T200000
LOCATION:https://www.learndesk.us/class/5473041867866112/lesson/47cee06c365bccff7e448a788b9700f9?ref=outlook-calendar
DESCRIPTION: In this lesson, you will learn about how users and groups are configured for proper rights and access.

https://www.learndesk.us/class/5473041867866112/lesson/47cee06c365bccff7e448a788b9700f9?ref=outlook-calendar
STATUS:CONFIRMED
SEQUENCE:3
BEGIN:VALARM
TRIGGER:-PT10M
DESCRIPTION:Class Reminder
ACTION:DISPLAY
END:VALARM
END:VEVENT
END:VCALENDAR