BEGIN:VCALENDAR
VERSION:2.0
CALSCALE:GREGORIAN
BEGIN:VEVENT
URL:https://www.learndesk.us/class/5473041867866112/lesson/3f9ae7d5ac7f752f43ca462982cdb2e6?ref=outlook-calendar
SUMMARY:Increasing Hash Security
DTSTART;TZID=America/Los_Angeles:20260422T190000
DTEND;TZID=America/Los_Angeles:20260422T200000
LOCATION:https://www.learndesk.us/class/5473041867866112/lesson/3f9ae7d5ac7f752f43ca462982cdb2e6?ref=outlook-calendar
DESCRIPTION: In this lesson, you will learn about the concept of key stretching, salting, and one-time use passwords.

https://www.learndesk.us/class/5473041867866112/lesson/3f9ae7d5ac7f752f43ca462982cdb2e6?ref=outlook-calendar
STATUS:CONFIRMED
SEQUENCE:3
BEGIN:VALARM
TRIGGER:-PT10M
DESCRIPTION:Class Reminder
ACTION:DISPLAY
END:VALARM
END:VEVENT
END:VCALENDAR