BEGIN:VCALENDAR
VERSION:2.0
CALSCALE:GREGORIAN
BEGIN:VEVENT
URL:https://www.learndesk.us/class/5473041867866112/lesson/3dcc4e527d7cb17d7a07f30c92639a38?ref=outlook-calendar
SUMMARY:Pop-up Blockers
DTSTART;TZID=America/Los_Angeles:20260422T190000
DTEND;TZID=America/Los_Angeles:20260422T200000
LOCATION:https://www.learndesk.us/class/5473041867866112/lesson/3dcc4e527d7cb17d7a07f30c92639a38?ref=outlook-calendar
DESCRIPTION: This lesson covers the use of pop-up blockers and how they can help us avoid adware and malware.

https://www.learndesk.us/class/5473041867866112/lesson/3dcc4e527d7cb17d7a07f30c92639a38?ref=outlook-calendar
STATUS:CONFIRMED
SEQUENCE:3
BEGIN:VALARM
TRIGGER:-PT10M
DESCRIPTION:Class Reminder
ACTION:DISPLAY
END:VALARM
END:VEVENT
END:VCALENDAR