BEGIN:VCALENDAR
VERSION:2.0
CALSCALE:GREGORIAN
BEGIN:VEVENT
URL:https://www.learndesk.us/class/5473041867866112/lesson/3c084a254c727b47b43af7929eb146a6?ref=outlook-calendar
SUMMARY:NIDS and NIPS
DTSTART;TZID=America/Los_Angeles:20260422T190000
DTEND;TZID=America/Los_Angeles:20260422T200000
LOCATION:https://www.learndesk.us/class/5473041867866112/lesson/3c084a254c727b47b43af7929eb146a6?ref=outlook-calendar
DESCRIPTION: In this lesson, you will learn when to use a NIDS and when to use a NIPS.

https://www.learndesk.us/class/5473041867866112/lesson/3c084a254c727b47b43af7929eb146a6?ref=outlook-calendar
STATUS:CONFIRMED
SEQUENCE:3
BEGIN:VALARM
TRIGGER:-PT10M
DESCRIPTION:Class Reminder
ACTION:DISPLAY
END:VALARM
END:VEVENT
END:VCALENDAR