BEGIN:VCALENDAR
VERSION:2.0
CALSCALE:GREGORIAN
BEGIN:VEVENT
URL:https://www.learndesk.us/class/5473041867866112/lesson/37b2c21ceba8bae2b6f0d48699e78ce4?ref=outlook-calendar
SUMMARY:Network Design
DTSTART;TZID=America/Los_Angeles:20260422T190000
DTEND;TZID=America/Los_Angeles:20260422T200000
LOCATION:https://www.learndesk.us/class/5473041867866112/lesson/37b2c21ceba8bae2b6f0d48699e78ce4?ref=outlook-calendar
DESCRIPTION: 
Learn about Network Design.

Network security
The OSI model
Switches
Routers
Network zones
Network access control
VLANs
Subnetting
Network address translation
Telephony



https://www.learndesk.us/class/5473041867866112/lesson/37b2c21ceba8bae2b6f0d48699e78ce4?ref=outlook-calendar
STATUS:CONFIRMED
SEQUENCE:3
BEGIN:VALARM
TRIGGER:-PT10M
DESCRIPTION:Class Reminder
ACTION:DISPLAY
END:VALARM
END:VEVENT
END:VCALENDAR