BEGIN:VCALENDAR
VERSION:2.0
CALSCALE:GREGORIAN
BEGIN:VEVENT
URL:https://www.learndesk.us/class/5473041867866112/lesson/33362534ef1ed8a69eae7b404ce73032?ref=outlook-calendar
SUMMARY:Web Browser Security
DTSTART;TZID=America/Los_Angeles:20260422T190000
DTEND;TZID=America/Los_Angeles:20260422T200000
LOCATION:https://www.learndesk.us/class/5473041867866112/lesson/33362534ef1ed8a69eae7b404ce73032?ref=outlook-calendar
DESCRIPTION: This lesson focuses on how to best secure your web browser.

https://www.learndesk.us/class/5473041867866112/lesson/33362534ef1ed8a69eae7b404ce73032?ref=outlook-calendar
STATUS:CONFIRMED
SEQUENCE:3
BEGIN:VALARM
TRIGGER:-PT10M
DESCRIPTION:Class Reminder
ACTION:DISPLAY
END:VALARM
END:VEVENT
END:VCALENDAR